BEGIN:VCALENDAR
VERSION:2.0
METHOD:PUBLISH
PRODID:-//hacksw/handcal//NONSGML v1.0//EN
BEGIN:VEVENT
DTSTAMP:20210913T174721Z
DTSTART:20210817T170000Z
DTEND:20210817T180000Z
UID:20210817T170000Z-20210817T180000Z-271@office365.delaware.gov
SUMMARY:1:00 PM:  Microsoft Forms Level 100
DESCRIPTION:1:00 PM - 2:00 PM Microsoft Forms Level 100 - This course 
 introduces MS Forms and demonstrates how to create surveys\, quizzes\,
  and polls\, how to respond in nearly any browser or mobile device\, a
 nd how to analyze those responses.\n\nReview the Agenda: CST - Microso
 ft Forms Government Training Agenda - Level 100\n\nInstructor:  Micros
 oft Customer Success Team\n\nDue to previous dial-in issues\, we have 
 updated the Meeting Link below (Updated on July 27\, 2021)\n\n \n\n___
 ______________________________________________________________________
 _______\n\nMicrosoft Teams meeting\n\nJoin on your computer or mobile 
 app\n\nClick here to join the meeting\n\nOr call in (audio only)\n\n+1
  323-849-4874\,\,613353190#   United States\, Los Angeles\n\n(866) 679
 -9995\,\,613353190#   (Toll-free)\n\nPhone Conference ID: 613 353 190#
 \n\nFind a local number | Reset PIN\n\nLearn More | Meeting options\n\
 n_____________________________________________________________________
 ___________
X-ALT-DESC;FMTTYPE=text/html:<p>1:00 PM &#8211\; 2:00 PM Microsoft For
 ms Level 100 &#8211\; This course introduces MS Forms and demonstrates
  how to create surveys\, quizzes\, and polls\, how to respond in nearl
 y any browser or mobile device\, and how to analyze those responses.</
 p>\n<p>Review the Agenda: <a href=https://office365.delaware.gov/wp-co
 ntent/uploads/sites/135/2021/07/CST-Microsoft-Forms-Government-Trainin
 g-Agenda-Level-100.pdf target=_blank rel=noopener>CST &#8211\; Microso
 ft Forms Government Training Agenda &#8211\; Level 100</a></p>\n<p>Ins
 tructor:  Microsoft Customer Success Team</p>\n<p><em><strong>Due to p
 revious dial-in issues\, we have updated the Meeting Link below (Updat
 ed on July 27\, 2021)</strong></em></p>\n<p>&nbsp\;</p>\n<p>__________
 ______________________________________________________________________
 </p>\n<p>Microsoft Teams meeting</p>\n<p><strong>Join on your computer
  or mobile app</strong></p>\n<p><a href=https://gcc02.safelinks.protec
 tion.outlook.com/ap/t-59584e83/?url=https%3A%2F%2Fteams.microsoft.com%
 2Fl%2Fmeetup-join%2F19%253ameeting_MWNhNzU0NzItZTQyNi00MjExLTkzZDctODh
 hZjMxNGUyNmI0%2540thread.v2%2F0%3Fcontext%3D%257b%2522Tid%2522%253a%25
 2272f988bf-86f1-41af-91ab-2d7cd011db47%2522%252c%2522Oid%2522%253a%252
 25d11579a-94f3-4808-af52-f7ede2ab61a1%2522%257d&amp\;data=04%7C01%7CSu
 zanne.Morris%40delaware.gov%7C088d52bbe1c644ded0eb08d9512cac73%7C8c09e
 56951c54deeabb28b99c32a4396%7C0%7C0%7C637630074583341865%7CUnknown%7CT
 WFpbGZsb3d8eyJWIjoiMC4wLjAwMDAiLCJQIjoiV2luMzIiLCJBTiI6Ik1haWwiLCJXVCI
 6Mn0%3D%7C1000&amp\;sdata=YqepMfZOKR%2BKfRV%2By3SRnjwWxozGW%2BGQR0lJJ%
 2B577%2Fw%3D&amp\;reserved=0>Click here to join the meeting</a></p>\n<
 p><strong>Or call in (audio only)</strong></p>\n<p><a href=tel:+132384
 94874\,\,613353190#>+1 323-849-4874\,\,613353190#</a>   United States\
 , Los Angeles</p>\n<p><a href=tel:8666799995\,\,613353190#>(866) 679-9
 995\,\,613353190#</a>   (Toll-free)</p>\n<p>Phone Conference ID: 613 3
 53 190#</p>\n<p><a href=https://gcc02.safelinks.protection.outlook.com
 /?url=https%3A%2F%2Fdialin.teams.microsoft.com%2F8551f4c1-bea3-441a-87
 38-69aa517a91c5%3Fid%3D613353190&amp\;data=04%7C01%7CSuzanne.Morris%40
 delaware.gov%7C088d52bbe1c644ded0eb08d9512cac73%7C8c09e56951c54deeabb2
 8b99c32a4396%7C0%7C0%7C637630074583341865%7CUnknown%7CTWFpbGZsb3d8eyJW
 IjoiMC4wLjAwMDAiLCJQIjoiV2luMzIiLCJBTiI6Ik1haWwiLCJXVCI6Mn0%3D%7C1000&
 amp\;sdata=iv41j%2F1%2BvRLbfKVXpgmg8thB4v%2F2aeRyRL2ic5sK3fU%3D&amp\;r
 eserved=0>Find a local number</a> | <a href=https://gcc02.safelinks.pr
 otection.outlook.com/?url=https%3A%2F%2Fmysettings.lync.com%2Fpstnconf
 erencing&amp\;data=04%7C01%7CSuzanne.Morris%40delaware.gov%7C088d52bbe
 1c644ded0eb08d9512cac73%7C8c09e56951c54deeabb28b99c32a4396%7C0%7C0%7C6
 37630074583351824%7CUnknown%7CTWFpbGZsb3d8eyJWIjoiMC4wLjAwMDAiLCJQIjoi
 V2luMzIiLCJBTiI6Ik1haWwiLCJXVCI6Mn0%3D%7C1000&amp\;sdata=BV2QA4n5hQqg2
 9UbohTBDEJ2QyvudSVJoXKmEtZK7g0%3D&amp\;reserved=0>Reset PIN</a></p>\n<
 p><a href=https://gcc02.safelinks.protection.outlook.com/?url=https%3A
 %2F%2Faka.ms%2FJoinTeamsMeeting&amp\;data=04%7C01%7CSuzanne.Morris%40d
 elaware.gov%7C088d52bbe1c644ded0eb08d9512cac73%7C8c09e56951c54deeabb28
 b99c32a4396%7C0%7C0%7C637630074583351824%7CUnknown%7CTWFpbGZsb3d8eyJWI
 joiMC4wLjAwMDAiLCJQIjoiV2luMzIiLCJBTiI6Ik1haWwiLCJXVCI6Mn0%3D%7C1000&a
 mp\;sdata=nqjDY%2BFXgi1Bc%2BnQYdR54Z1bVWp5FKe%2BKcmUz4tC3iY%3D&amp\;re
 served=0>Learn More</a> | <a href=https://gcc02.safelinks.protection.o
 utlook.com/?url=https%3A%2F%2Fteams.microsoft.com%2FmeetingOptions%2F%
 3ForganizerId%3D5d11579a-94f3-4808-af52-f7ede2ab61a1%26tenantId%3D72f9
 88bf-86f1-41af-91ab-2d7cd011db47%26threadId%3D19_meeting_MWNhNzU0NzItZ
 TQyNi00MjExLTkzZDctODhhZjMxNGUyNmI0%40thread.v2%26messageId%3D0%26lang
 uage%3Den-US&amp\;data=04%7C01%7CSuzanne.Morris%40delaware.gov%7C088d5
 2bbe1c644ded0eb08d9512cac73%7C8c09e56951c54deeabb28b99c32a4396%7C0%7C0
 %7C637630074583361780%7CUnknown%7CTWFpbGZsb3d8eyJWIjoiMC4wLjAwMDAiLCJQ
 IjoiV2luMzIiLCJBTiI6Ik1haWwiLCJXVCI6Mn0%3D%7C1000&amp\;sdata=Nk6kvX8j3
 Afpegiwjf24V%2BUP31vR98fgXAiOn6YcxUk%3D&amp\;reserved=0>Meeting option
 s</a></p>\n<p>________________________________________________________
 ________________________</p>\n
URL:https://office365.delaware.gov/events/100-pm-microsoft-forms-level
 -100/
ATTACH:https://office365.delaware.gov/events/100-pm-microsoft-forms-le
 vel-100/
END:VEVENT
END:VCALENDAR
