BEGIN:VCALENDAR
VERSION:2.0
METHOD:PUBLISH
PRODID:-//hacksw/handcal//NONSGML v1.0//EN
BEGIN:VEVENT
DTSTAMP:20260425T013157Z
DTSTART:20210422T130000Z
DTEND:20210422T140000Z
UID:20210422T130000Z-20210422T140000Z-196@office365.delaware.gov
SUMMARY:Office Hour:  Teams Live Events (9AM - 10AM)
DESCRIPTION:Office Hour: Teams Live Events (9AM - 10AM)\n\nMicrosoft T
 eams meeting\n\nJoin on your computer or mobile app\n\nClick here to j
 oin the meeting\n\nOr call in (audio only)\n\n+1 323-849-4874\,\,36254
 0780#   United States\, Los Angeles\n\nPhone Conference ID: 362 540 78
 0#\n\nFind a local number | Reset PIN\n\nLearn More | Meeting options
X-ALT-DESC;FMTTYPE=text/html:<p>Office Hour: Teams Live Events (9AM &#
 8211\; 10AM)</p>\n<p>Microsoft Teams meeting</p>\n<p><strong>Join on y
 our computer or mobile app</strong></p>\n<p><a href=https://gcc02.safe
 links.protection.outlook.com/ap/t-59584e83/?url=https%3A%2F%2Fteams.mi
 crosoft.com%2Fl%2Fmeetup-join%2F19%253ameeting_Zjc0NWIyMDItMGIyYS00MDQ
 1LWIxNjYtYjlhMTE3OTU4MTFk%2540thread.v2%2F0%3Fcontext%3D%257b%2522Tid%
 2522%253a%252272f988bf-86f1-41af-91ab-2d7cd011db47%2522%252c%2522Oid%2
 522%253a%2522bab62529-4ec0-4203-927f-de2094ef14b8%2522%257d&amp\;data=
 04%7C01%7CSuzanne.Morris%40delaware.gov%7C8f9dbc128d544d5f614508d8ed51
 1a31%7C8c09e56951c54deeabb28b99c32a4396%7C0%7C0%7C637520279876455838%7
 CUnknown%7CTWFpbGZsb3d8eyJWIjoiMC4wLjAwMDAiLCJQIjoiV2luMzIiLCJBTiI6Ik1
 haWwiLCJXVCI6Mn0%3D%7C1000&amp\;sdata=ivVnnT2rLjdS9uIZR7YqfZeKFNGYJcd9
 TpxpJhHeyC8%3D&amp\;reserved=0>Click here to join the meeting</a></p>\
 n<p><strong>Or call in (audio only)</strong></p>\n<p><a href=tel:+1323
 8494874\,\,362540780#>+1 323-849-4874\,\,362540780#</a>   United State
 s\, Los Angeles</p>\n<p>Phone Conference ID: 362 540 780#</p>\n<p><a h
 ref=https://gcc02.safelinks.protection.outlook.com/?url=https%3A%2F%2F
 dialin.teams.microsoft.com%2F8551f4c1-bea3-441a-8738-69aa517a91c5%3Fid
 %3D362540780&amp\;data=04%7C01%7CSuzanne.Morris%40delaware.gov%7C8f9db
 c128d544d5f614508d8ed511a31%7C8c09e56951c54deeabb28b99c32a4396%7C0%7C0
 %7C637520279876465795%7CUnknown%7CTWFpbGZsb3d8eyJWIjoiMC4wLjAwMDAiLCJQ
 IjoiV2luMzIiLCJBTiI6Ik1haWwiLCJXVCI6Mn0%3D%7C1000&amp\;sdata=BDAfPibNU
 4OTsJMnGLqECg%2FmoMKWiBMRH40B6AkwIBw%3D&amp\;reserved=0>Find a local n
 umber</a> | <a href=https://gcc02.safelinks.protection.outlook.com/?ur
 l=https%3A%2F%2Fmysettings.lync.com%2Fpstnconferencing&amp\;data=04%7C
 01%7CSuzanne.Morris%40delaware.gov%7C8f9dbc128d544d5f614508d8ed511a31%
 7C8c09e56951c54deeabb28b99c32a4396%7C0%7C0%7C637520279876465795%7CUnkn
 own%7CTWFpbGZsb3d8eyJWIjoiMC4wLjAwMDAiLCJQIjoiV2luMzIiLCJBTiI6Ik1haWwi
 LCJXVCI6Mn0%3D%7C1000&amp\;sdata=QdEfcPgoEw%2BjL95tv52UoQj2NFGazTjr2iz
 nfgDXpiM%3D&amp\;reserved=0>Reset PIN</a></p>\n<p><a href=https://gcc0
 2.safelinks.protection.outlook.com/?url=https%3A%2F%2Faka.ms%2FJoinTea
 msMeeting&amp\;data=04%7C01%7CSuzanne.Morris%40delaware.gov%7C8f9dbc12
 8d544d5f614508d8ed511a31%7C8c09e56951c54deeabb28b99c32a4396%7C0%7C0%7C
 637520279876465795%7CUnknown%7CTWFpbGZsb3d8eyJWIjoiMC4wLjAwMDAiLCJQIjo
 iV2luMzIiLCJBTiI6Ik1haWwiLCJXVCI6Mn0%3D%7C1000&amp\;sdata=e%2FyACwndeh
 TfNqms0TF4RrFFzCal2NcAe%2Bty2t8%2F1qc%3D&amp\;reserved=0>Learn More</a
 > | <a href=https://gcc02.safelinks.protection.outlook.com/?url=https%
 3A%2F%2Fteams.microsoft.com%2FmeetingOptions%2F%3ForganizerId%3Dbab625
 29-4ec0-4203-927f-de2094ef14b8%26tenantId%3D72f988bf-86f1-41af-91ab-2d
 7cd011db47%26threadId%3D19_meeting_Zjc0NWIyMDItMGIyYS00MDQ1LWIxNjYtYjl
 hMTE3OTU4MTFk%40thread.v2%26messageId%3D0%26language%3Den-US&amp\;data
 =04%7C01%7CSuzanne.Morris%40delaware.gov%7C8f9dbc128d544d5f614508d8ed5
 11a31%7C8c09e56951c54deeabb28b99c32a4396%7C0%7C0%7C637520279876475754%
 7CUnknown%7CTWFpbGZsb3d8eyJWIjoiMC4wLjAwMDAiLCJQIjoiV2luMzIiLCJBTiI6Ik
 1haWwiLCJXVCI6Mn0%3D%7C1000&amp\;sdata=LjL1OSTVZWihTD2gzhx3%2FiPfTQC0M
 7SevP1lBtEs8rM%3D&amp\;reserved=0>Meeting options</a></p>\n
URL:https://office365.delaware.gov/events/office-hour-teams-live-event
 s-9am-10am/
ATTACH:https://office365.delaware.gov/events/office-hour-teams-live-ev
 ents-9am-10am/
END:VEVENT
END:VCALENDAR
